BEGIN:VCALENDAR
VERSION:2.0
PRODID:-//Eglise Baptiste de Joinville - ECPv6.15.20//NONSGML v1.0//EN
CALSCALE:GREGORIAN
METHOD:PUBLISH
X-ORIGINAL-URL:https://eglise-baptiste-joinville.fr
X-WR-CALDESC:Évènements pour Eglise Baptiste de Joinville
REFRESH-INTERVAL;VALUE=DURATION:PT1H
X-Robots-Tag:noindex
X-PUBLISHED-TTL:PT1H
BEGIN:VTIMEZONE
TZID:UTC
BEGIN:STANDARD
TZOFFSETFROM:+0000
TZOFFSETTO:+0000
TZNAME:UTC
DTSTART:20240101T000000
END:STANDARD
END:VTIMEZONE
BEGIN:VEVENT
DTSTART;TZID=UTC:20251023T140000
DTEND;TZID=UTC:20251023T153000
DTSTAMP:20260419T212206
CREATED:20251015T083735Z
LAST-MODIFIED:20251015T083737Z
UID:1652-1761228000-1761233400@eglise-baptiste-joinville.fr
SUMMARY:Partage biblique
DESCRIPTION:Partage biblique
URL:https://eglise-baptiste-joinville.fr/event/partage-biblique
LOCATION:Eglise Baptiste de Joinville\, 81 quai de la Marne\, Joinville-le-Pont\, 94340
END:VEVENT
BEGIN:VEVENT
DTSTART;TZID=UTC:20251023T203000
DTEND;TZID=UTC:20251023T220000
DTSTAMP:20260419T212206
CREATED:20251015T084004Z
LAST-MODIFIED:20251015T084100Z
UID:1654-1761251400-1761256800@eglise-baptiste-joinville.fr
SUMMARY:Partage biblique
DESCRIPTION:Partage  biblique
URL:https://eglise-baptiste-joinville.fr/event/etude-biblique-7
LOCATION:ZOOM
END:VEVENT
BEGIN:VEVENT
DTSTART;TZID=UTC:20251024T191500
DTEND;TZID=UTC:20251024T214500
DTSTAMP:20260419T212206
CREATED:20250906T095842Z
LAST-MODIFIED:20250906T101809Z
UID:1619-1761333300-1761342300@eglise-baptiste-joinville.fr
SUMMARY:Parcourt Alpha
DESCRIPTION:Rencontrons chaque vendredi autour d’un repas convivial et dans une ambiance détendue! \n\n\n\nPour ce vendredi\, le thème est : « Lire la bible ? pourquoi et comment? » \n\n\n\nAidez-nous à préparer ces rencontres en nous prévenant de votre présence : \n\n\n\nPar mail: joelle.razana@gmail.com \n\n\n\nPar tel: 0688054745
URL:https://eglise-baptiste-joinville.fr/event/parcourt-alpha-6
LOCATION:Eglise Baptiste de Joinville\, 81 quai de la Marne\, Joinville-le-Pont\, 94340
END:VEVENT
BEGIN:VEVENT
DTSTART;TZID=UTC:20251026T100000
DTEND;TZID=UTC:20251026T120000
DTSTAMP:20260419T212206
CREATED:20250906T091929Z
LAST-MODIFIED:20250906T091930Z
UID:1605-1761472800-1761480000@eglise-baptiste-joinville.fr
SUMMARY:Culte du dimanche
DESCRIPTION:Retrouvons-nous comme tous les dimanches pour un temps d’actions de grâces ; \n\n\n\nVenez célébrer avec nous le Roi des rois!!
URL:https://eglise-baptiste-joinville.fr/event/culte-du-dimanche-27
LOCATION:Eglise Baptiste de Joinville\, 81 quai de la Marne\, Joinville-le-Pont\, 94340
END:VEVENT
BEGIN:VEVENT
DTSTART;TZID=UTC:20251031T191500
DTEND;TZID=UTC:20251031T214500
DTSTAMP:20260419T212206
CREATED:20250906T100013Z
LAST-MODIFIED:20250906T101818Z
UID:1621-1761938100-1761947100@eglise-baptiste-joinville.fr
SUMMARY:Parcourt Alpha
DESCRIPTION:Rencontrons chaque vendredi autour d’un repas convivial et dans une ambiance détendue! \n\n\n\nPour ce vendredi\, le thème est : « Comment Dieu nous guide-t-il? » \n\n\n\nAidez-nous à préparer ces rencontres en nous prévenant de votre présence : \n\n\n\nPar mail: joelle.razana@gmail.com \n\n\n\nPar tel: 0688054745
URL:https://eglise-baptiste-joinville.fr/event/parcourt-alpha-7
LOCATION:Eglise Baptiste de Joinville\, 81 quai de la Marne\, Joinville-le-Pont\, 94340
END:VEVENT
END:VCALENDAR