BEGIN:VCALENDAR
VERSION:2.0
PRODID:-//Eglise Baptiste de Joinville - ECPv6.15.20//NONSGML v1.0//EN
CALSCALE:GREGORIAN
METHOD:PUBLISH
X-ORIGINAL-URL:https://eglise-baptiste-joinville.fr
X-WR-CALDESC:Évènements pour Eglise Baptiste de Joinville
REFRESH-INTERVAL;VALUE=DURATION:PT1H
X-Robots-Tag:noindex
X-PUBLISHED-TTL:PT1H
BEGIN:VTIMEZONE
TZID:UTC
BEGIN:STANDARD
TZOFFSETFROM:+0000
TZOFFSETTO:+0000
TZNAME:UTC
DTSTART:20240101T000000
END:STANDARD
END:VTIMEZONE
BEGIN:VEVENT
DTSTART;TZID=UTC:20251102T100000
DTEND;TZID=UTC:20251102T120000
DTSTAMP:20260419T194248
CREATED:20251015T084525Z
LAST-MODIFIED:20251015T084526Z
UID:1659-1762077600-1762084800@eglise-baptiste-joinville.fr
SUMMARY:Culte du dimanche
DESCRIPTION:Retrouvons-nous comme tous les dimanches pour un temps d’actions de grâces ; \n\n\n\nVenez célébrer avec nous le Roi des rois!!
URL:https://eglise-baptiste-joinville.fr/event/culte-du-dimanche-12
LOCATION:Eglise Baptiste de Joinville\, 81 quai de la Marne\, Joinville-le-Pont\, 94340
END:VEVENT
BEGIN:VEVENT
DTSTART;TZID=UTC:20251106T140000
DTEND;TZID=UTC:20251106T153000
DTSTAMP:20260419T194248
CREATED:20251015T085234Z
LAST-MODIFIED:20251015T085235Z
UID:1671-1762437600-1762443000@eglise-baptiste-joinville.fr
SUMMARY:Etude biblique
DESCRIPTION:Etude biblique
URL:https://eglise-baptiste-joinville.fr/event/etude-biblique-8
LOCATION:Eglise Baptiste de Joinville\, 81 quai de la Marne\, Joinville-le-Pont\, 94340
END:VEVENT
BEGIN:VEVENT
DTSTART;TZID=UTC:20251106T203000
DTEND;TZID=UTC:20251106T220000
DTSTAMP:20260419T194248
CREATED:20251015T085327Z
LAST-MODIFIED:20251015T085328Z
UID:1673-1762461000-1762466400@eglise-baptiste-joinville.fr
SUMMARY:Etude biblique
DESCRIPTION:Etude biblique
URL:https://eglise-baptiste-joinville.fr/event/etude-biblique-9
LOCATION:ZOOM
END:VEVENT
BEGIN:VEVENT
DTSTART;TZID=UTC:20251108T080000
DTEND;TZID=UTC:20251108T180000
DTSTAMP:20260419T194248
CREATED:20250906T100412Z
LAST-MODIFIED:20250906T100744Z
UID:1623-1762588800-1762624800@eglise-baptiste-joinville.fr
SUMMARY:Parcourt Alpha
DESCRIPTION:Rencontrons pendant une journée complète autour d’un repas convivial et dans une ambiance détendue! \n\n\n\nLes sujets abordés: \n\n\n\n\nQui est l’Esprit-Saint?\n\n\n\nComment agit-il?\n\n\n\nComment le recevoir?\n\n\n\n\nAidez-nous à préparer ces rencontres en nous prévenant de votre présence : \n\n\n\n\nPar tel: 0688054745\n\n\n\nPar mail: joelle.razana@gmail.com
URL:https://eglise-baptiste-joinville.fr/event/parcourt-alpha-8
LOCATION:Eglise Baptiste de Joinville\, 81 quai de la Marne\, Joinville-le-Pont\, 94340
END:VEVENT
BEGIN:VEVENT
DTSTART;TZID=UTC:20251109T100000
DTEND;TZID=UTC:20251109T120000
DTSTAMP:20260419T194248
CREATED:20251015T084612Z
LAST-MODIFIED:20251015T084613Z
UID:1661-1762682400-1762689600@eglise-baptiste-joinville.fr
SUMMARY:Culte du dimanche
DESCRIPTION:Retrouvons-nous comme tous les dimanches pour un temps d’actions de grâces ; \n\n\n\nVenez célébrer avec nous le Roi des rois!!
URL:https://eglise-baptiste-joinville.fr/event/culte-du-dimanche-13
LOCATION:Eglise Baptiste de Joinville\, 81 quai de la Marne\, Joinville-le-Pont\, 94340
END:VEVENT
BEGIN:VEVENT
DTSTART;TZID=UTC:20251114T191500
DTEND;TZID=UTC:20251114T214500
DTSTAMP:20260419T194248
CREATED:20250906T100954Z
LAST-MODIFIED:20250906T100955Z
UID:1627-1763147700-1763156700@eglise-baptiste-joinville.fr
SUMMARY:Parcourt Alpha
DESCRIPTION:Rencontrons pendant une journée complète autour d’un repas convivial et dans une ambiance détendue! \n\n\n\nLe sujet de ce vendredi est :« Comment résister au mail? » \n\n\n\nAidez-nous à préparer ces rencontres en nous prévenant de votre présence : \n\n\n\nPar mail: joelle.razana@gmail.com \n\n\n\nPar tel: 0688054745
URL:https://eglise-baptiste-joinville.fr/event/parcourt-alpha-9
LOCATION:Eglise Baptiste de Joinville\, 81 quai de la Marne\, Joinville-le-Pont\, 94340
END:VEVENT
BEGIN:VEVENT
DTSTART;TZID=UTC:20251116T100000
DTEND;TZID=UTC:20251116T120000
DTSTAMP:20260419T194248
CREATED:20251015T084720Z
LAST-MODIFIED:20251015T084721Z
UID:1663-1763287200-1763294400@eglise-baptiste-joinville.fr
SUMMARY:Culte du dimanche
DESCRIPTION:Retrouvons-nous comme tous les dimanches pour un temps d’actions de grâces ; \n\n\n\nVenez célébrer avec nous le Roi des rois!!
URL:https://eglise-baptiste-joinville.fr/event/culte-du-dimanche-14
LOCATION:Eglise Baptiste de Joinville\, 81 quai de la Marne\, Joinville-le-Pont\, 94340
END:VEVENT
BEGIN:VEVENT
DTSTART;TZID=UTC:20251120T140000
DTEND;TZID=UTC:20251120T153000
DTSTAMP:20260419T194248
CREATED:20251015T085459Z
LAST-MODIFIED:20251015T085500Z
UID:1675-1763647200-1763652600@eglise-baptiste-joinville.fr
SUMMARY:Partage biblique
DESCRIPTION:Partage biblique
URL:https://eglise-baptiste-joinville.fr/event/partage-biblique-2
LOCATION:ZOOM
END:VEVENT
BEGIN:VEVENT
DTSTART;TZID=UTC:20251120T203000
DTEND;TZID=UTC:20251120T220000
DTSTAMP:20260419T194248
CREATED:20251015T085711Z
LAST-MODIFIED:20251015T085712Z
UID:1677-1763670600-1763676000@eglise-baptiste-joinville.fr
SUMMARY:Partage biblique
DESCRIPTION:Partage biblique
URL:https://eglise-baptiste-joinville.fr/event/partage-biblique-3
END:VEVENT
BEGIN:VEVENT
DTSTART;TZID=UTC:20251121T191500
DTEND;TZID=UTC:20251121T214500
DTSTAMP:20260419T194248
CREATED:20250906T101236Z
LAST-MODIFIED:20250906T101237Z
UID:1629-1763752500-1763761500@eglise-baptiste-joinville.fr
SUMMARY:Parcourt Alpha
DESCRIPTION:Rencontrons pendant une journée complète autour d’un repas convivial et dans une ambiance détendue! \n\n\n\nLe sujet de ce vendredi est :« En parler aux autres: pourquoi et comment? » \n\n\n\nAidez-nous à préparer ces rencontres en nous prévenant de votre présence : \n\n\n\nPar mail: joelle.razana@gmail.com \n\n\n\nPar tel: 0688054745
URL:https://eglise-baptiste-joinville.fr/event/parcourt-alpha-10
LOCATION:Eglise Baptiste de Joinville\, 81 quai de la Marne\, Joinville-le-Pont\, 94340
END:VEVENT
BEGIN:VEVENT
DTSTART;TZID=UTC:20251122T180000
DTEND;TZID=UTC:20251122T223000
DTSTAMP:20260419T194248
CREATED:20251015T090009Z
LAST-MODIFIED:20251015T090010Z
UID:1683-1763834400-1763850600@eglise-baptiste-joinville.fr
SUMMARY:Groupe des ados
DESCRIPTION:Groupe des ados
URL:https://eglise-baptiste-joinville.fr/event/groupe-des-ados-2
LOCATION:Eglise Baptiste de Joinville\, 81 quai de la Marne\, Joinville-le-Pont\, 94340
END:VEVENT
BEGIN:VEVENT
DTSTART;TZID=UTC:20251123T100000
DTEND;TZID=UTC:20251123T120000
DTSTAMP:20260419T194248
CREATED:20251015T084856Z
LAST-MODIFIED:20251015T084857Z
UID:1665-1763892000-1763899200@eglise-baptiste-joinville.fr
SUMMARY:Culte du dimanche
DESCRIPTION:Retrouvons-nous comme tous les dimanches pour un temps d’actions de grâces ; \n\n\n\nVenez célébrer avec nous le Roi des rois!!
URL:https://eglise-baptiste-joinville.fr/event/culte-du-dimanche-15
LOCATION:Eglise Baptiste de Joinville\, 81 quai de la Marne\, Joinville-le-Pont\, 94340
END:VEVENT
BEGIN:VEVENT
DTSTART;TZID=UTC:20251123T120000
DTEND;TZID=UTC:20251123T140000
DTSTAMP:20260419T194248
CREATED:20251015T085106Z
LAST-MODIFIED:20251015T085107Z
UID:1669-1763899200-1763906400@eglise-baptiste-joinville.fr
SUMMARY:Agape
DESCRIPTION:Retrouvons après le culte pour un temps de communion fraternelle
URL:https://eglise-baptiste-joinville.fr/event/agape-3
LOCATION:Eglise Baptiste de Joinville\, 81 quai de la Marne\, Joinville-le-Pont\, 94340
END:VEVENT
BEGIN:VEVENT
DTSTART;TZID=UTC:20251126T183000
DTEND;TZID=UTC:20251126T213000
DTSTAMP:20260419T194248
CREATED:20251015T085847Z
LAST-MODIFIED:20251015T085848Z
UID:1681-1764181800-1764192600@eglise-baptiste-joinville.fr
SUMMARY:Groupe des Hommes
DESCRIPTION:Groupe des hommes
URL:https://eglise-baptiste-joinville.fr/event/groupe-des-hommes
END:VEVENT
BEGIN:VEVENT
DTSTART;TZID=UTC:20251128T191500
DTEND;TZID=UTC:20251128T214500
DTSTAMP:20260419T194248
CREATED:20250906T101407Z
LAST-MODIFIED:20250906T101409Z
UID:1631-1764357300-1764366300@eglise-baptiste-joinville.fr
SUMMARY:Parcourt Alpha
DESCRIPTION:Rencontrons pendant une journée complète autour d’un repas convivial et dans une ambiance détendue! \n\n\n\nLe sujet de ce vendredi est :« Dieu guérit-il encore aujourd’hui? » \n\n\n\nAidez-nous à préparer ces rencontres en nous prévenant de votre présence : \n\n\n\nPar mail: joelle.razana@gmail.com \n\n\n\nPar tel: 0688054745
URL:https://eglise-baptiste-joinville.fr/event/parcourt-alpha-11
END:VEVENT
BEGIN:VEVENT
DTSTART;TZID=UTC:20251130T100000
DTEND;TZID=UTC:20251130T120000
DTSTAMP:20260419T194248
CREATED:20251015T084941Z
LAST-MODIFIED:20251015T084942Z
UID:1667-1764496800-1764504000@eglise-baptiste-joinville.fr
SUMMARY:Culte du dimanche
DESCRIPTION:Retrouvons-nous comme tous les dimanches pour un temps d’actions de grâces ; \n\n\n\nVenez célébrer avec nous le Roi des rois!!
URL:https://eglise-baptiste-joinville.fr/event/culte-du-dimanche-16
LOCATION:Eglise Baptiste de Joinville\, 81 quai de la Marne\, Joinville-le-Pont\, 94340
END:VEVENT
END:VCALENDAR