BEGIN:VCALENDAR
VERSION:2.0
PRODID:-//Eglise Baptiste de Joinville - ECPv6.15.20//NONSGML v1.0//EN
CALSCALE:GREGORIAN
METHOD:PUBLISH
X-ORIGINAL-URL:https://eglise-baptiste-joinville.fr
X-WR-CALDESC:Évènements pour Eglise Baptiste de Joinville
REFRESH-INTERVAL;VALUE=DURATION:PT1H
X-Robots-Tag:noindex
X-PUBLISHED-TTL:PT1H
BEGIN:VTIMEZONE
TZID:UTC
BEGIN:STANDARD
TZOFFSETFROM:+0000
TZOFFSETTO:+0000
TZNAME:UTC
DTSTART:20250101T000000
END:STANDARD
END:VTIMEZONE
BEGIN:VEVENT
DTSTART;TZID=UTC:20260104T100000
DTEND;TZID=UTC:20260104T120000
DTSTAMP:20260419T160304
CREATED:20251223T141621Z
LAST-MODIFIED:20251223T141622Z
UID:1693-1767520800-1767528000@eglise-baptiste-joinville.fr
SUMMARY:Culte du dimanche
DESCRIPTION:Retrouvons-nous comme tous les dimanches pour un temps d’actions de grâces ; \n\n\n\nVenez célébrer avec nous le Roi des rois!!
URL:https://eglise-baptiste-joinville.fr/event/culte-du-dimanche-4
LOCATION:Eglise Baptiste de Joinville\, 81 quai de la Marne\, Joinville-le-Pont\, 94340
END:VEVENT
BEGIN:VEVENT
DTSTART;TZID=UTC:20260107T190000
DTEND;TZID=UTC:20260107T220000
DTSTAMP:20260419T160304
CREATED:20251223T142844Z
LAST-MODIFIED:20251223T142845Z
UID:1701-1767812400-1767823200@eglise-baptiste-joinville.fr
SUMMARY:Jeunes adultes
DESCRIPTION:Rencontre des jeunes adultes
URL:https://eglise-baptiste-joinville.fr/event/jeunes-adultes
END:VEVENT
BEGIN:VEVENT
DTSTART;TZID=UTC:20260108T140000
DTEND;TZID=UTC:20260108T150000
DTSTAMP:20260419T160304
CREATED:20251223T143123Z
LAST-MODIFIED:20251223T143124Z
UID:1703-1767880800-1767884400@eglise-baptiste-joinville.fr
SUMMARY:Etude Biblique
DESCRIPTION:Etude biblique
URL:https://eglise-baptiste-joinville.fr/event/etude-biblique-2
LOCATION:Eglise Baptiste de Joinville\, 81 quai de la Marne\, Joinville-le-Pont\, 94340
END:VEVENT
BEGIN:VEVENT
DTSTART;TZID=UTC:20260108T203000
DTEND;TZID=UTC:20260108T220000
DTSTAMP:20260419T160304
CREATED:20251223T143230Z
LAST-MODIFIED:20251223T143231Z
UID:1705-1767904200-1767909600@eglise-baptiste-joinville.fr
SUMMARY:Etude biblique
DESCRIPTION:Etude biblique
URL:https://eglise-baptiste-joinville.fr/event/etude-biblique-3
LOCATION:ZOOM
END:VEVENT
BEGIN:VEVENT
DTSTART;TZID=UTC:20260110T180000
DTEND;TZID=UTC:20260110T220000
DTSTAMP:20260419T160304
CREATED:20251223T143943Z
LAST-MODIFIED:20251223T143944Z
UID:1711-1768068000-1768082400@eglise-baptiste-joinville.fr
SUMMARY:Groupe des Ados
DESCRIPTION:Groupe des Ados
URL:https://eglise-baptiste-joinville.fr/event/groupe-des-ados-3
END:VEVENT
BEGIN:VEVENT
DTSTART;TZID=UTC:20260111T100000
DTEND;TZID=UTC:20260111T120000
DTSTAMP:20260419T160304
CREATED:20251223T141818Z
LAST-MODIFIED:20251223T141819Z
UID:1695-1768125600-1768132800@eglise-baptiste-joinville.fr
SUMMARY:Culte du dimanche
DESCRIPTION:Retrouvons-nous comme tous les dimanches pour un temps d’actions de grâces ; \n\n\n\nVenez célébrer avec nous le Roi des rois!!
URL:https://eglise-baptiste-joinville.fr/event/culte-du-dimanche-17
LOCATION:Eglise Baptiste de Joinville\, 81 quai de la Marne\, Joinville-le-Pont\, 94340
END:VEVENT
BEGIN:VEVENT
DTSTART;TZID=UTC:20260117T180000
DTEND;TZID=UTC:20260117T220000
DTSTAMP:20260419T160304
CREATED:20251223T144140Z
LAST-MODIFIED:20251223T144142Z
UID:1713-1768672800-1768687200@eglise-baptiste-joinville.fr
SUMMARY:Vaillantes & Vaillants
DESCRIPTION:Soirée « Vaillantes et Vaillants »« Dieu guérit les familles »(Avec Agape et Accueil des enfants)
URL:https://eglise-baptiste-joinville.fr/event/vaillantes-vaillants
LOCATION:Eglise Baptiste de Joinville\, 81 quai de la Marne\, Joinville-le-Pont\, 94340
END:VEVENT
BEGIN:VEVENT
DTSTART;TZID=UTC:20260118T100000
DTEND;TZID=UTC:20260118T120000
DTSTAMP:20260419T160304
CREATED:20251223T141943Z
LAST-MODIFIED:20251223T141945Z
UID:1697-1768730400-1768737600@eglise-baptiste-joinville.fr
SUMMARY:Culte du dimanche
DESCRIPTION:Retrouvons-nous comme tous les dimanches pour un temps d’actions de grâces ; \n\n\n\nVenez célébrer avec nous le Roi des rois!!
URL:https://eglise-baptiste-joinville.fr/event/culte-du-dimanche-18
LOCATION:Eglise Baptiste de Joinville\, 81 quai de la Marne\, Joinville-le-Pont\, 94340
END:VEVENT
BEGIN:VEVENT
DTSTART;TZID=UTC:20260122T140000
DTEND;TZID=UTC:20260122T153000
DTSTAMP:20260419T160304
CREATED:20251223T143457Z
LAST-MODIFIED:20251223T143459Z
UID:1707-1769090400-1769095800@eglise-baptiste-joinville.fr
SUMMARY:Partage Biblique
DESCRIPTION:Partage Biblique
URL:https://eglise-baptiste-joinville.fr/event/partage-biblique-4
LOCATION:Eglise Baptiste de Joinville\, 81 quai de la Marne\, Joinville-le-Pont\, 94340
END:VEVENT
BEGIN:VEVENT
DTSTART;TZID=UTC:20260122T203000
DTEND;TZID=UTC:20260122T220000
DTSTAMP:20260419T160304
CREATED:20251223T143629Z
LAST-MODIFIED:20251223T143630Z
UID:1709-1769113800-1769119200@eglise-baptiste-joinville.fr
SUMMARY:Partage Biblique
DESCRIPTION:Partage Biblique
URL:https://eglise-baptiste-joinville.fr/event/partage-biblique-5
LOCATION:ZOOM
END:VEVENT
BEGIN:VEVENT
DTSTART;TZID=UTC:20260125T100000
DTEND;TZID=UTC:20260125T120000
DTSTAMP:20260419T160304
CREATED:20251223T142105Z
LAST-MODIFIED:20251223T142106Z
UID:1699-1769335200-1769342400@eglise-baptiste-joinville.fr
SUMMARY:Culte du dimanche
DESCRIPTION:Retrouvons-nous comme tous les dimanches pour un temps d’actions de grâces ; \n\n\n\nVenez célébrer avec nous le Roi des rois!!
URL:https://eglise-baptiste-joinville.fr/event/culte-du-dimanche-19
LOCATION:Eglise Baptiste de Joinville\, 81 quai de la Marne\, Joinville-le-Pont\, 94340
END:VEVENT
END:VCALENDAR