BEGIN:VCALENDAR
VERSION:2.0
PRODID:-//Eglise Baptiste de Joinville - ECPv6.15.20//NONSGML v1.0//EN
CALSCALE:GREGORIAN
METHOD:PUBLISH
X-WR-CALNAME:Eglise Baptiste de Joinville
X-ORIGINAL-URL:https://eglise-baptiste-joinville.fr
X-WR-CALDESC:Évènements pour Eglise Baptiste de Joinville
REFRESH-INTERVAL;VALUE=DURATION:PT1H
X-Robots-Tag:noindex
X-PUBLISHED-TTL:PT1H
BEGIN:VTIMEZONE
TZID:UTC
BEGIN:STANDARD
TZOFFSETFROM:+0000
TZOFFSETTO:+0000
TZNAME:UTC
DTSTART:20250101T000000
END:STANDARD
END:VTIMEZONE
BEGIN:VEVENT
DTSTART;TZID=UTC:20260301T100000
DTEND;TZID=UTC:20260301T120000
DTSTAMP:20260419T123330
CREATED:20260204T110108Z
LAST-MODIFIED:20260204T110109Z
UID:1742-1772359200-1772366400@eglise-baptiste-joinville.fr
SUMMARY:Culte du dimanche
DESCRIPTION:Retrouvons-nous comme tous les dimanches pour un temps d’actions de grâces ; \n\n\n\nVenez célébrer avec nous le Roi des rois!!
URL:https://eglise-baptiste-joinville.fr/event/culte-du-dimanche-24
LOCATION:Eglise Baptiste de Joinville\, 81 quai de la Marne\, Joinville-le-Pont\, 94340
END:VEVENT
BEGIN:VEVENT
DTSTART;TZID=UTC:20260305T140000
DTEND;TZID=UTC:20260305T153000
DTSTAMP:20260419T123330
CREATED:20260317T183327Z
LAST-MODIFIED:20260317T183328Z
UID:1777-1772719200-1772724600@eglise-baptiste-joinville.fr
SUMMARY:Etude Biblique
DESCRIPTION:
URL:https://eglise-baptiste-joinville.fr/event/etude-biblique-5
END:VEVENT
BEGIN:VEVENT
DTSTART;TZID=UTC:20260305T203000
DTEND;TZID=UTC:20260305T220000
DTSTAMP:20260419T123330
CREATED:20260317T183541Z
LAST-MODIFIED:20260317T183542Z
UID:1779-1772742600-1772748000@eglise-baptiste-joinville.fr
SUMMARY:Etude Biblique
DESCRIPTION:
URL:https://eglise-baptiste-joinville.fr/event/etude-biblique-10
LOCATION:ZOOM
END:VEVENT
BEGIN:VEVENT
DTSTART;TZID=UTC:20260308T003000
DTEND;TZID=UTC:20260308T010000
DTSTAMP:20260419T123330
CREATED:20260204T110148Z
LAST-MODIFIED:20260204T110149Z
UID:1744-1772929800-1772931600@eglise-baptiste-joinville.fr
SUMMARY:Culte du dimanche
DESCRIPTION:Retrouvons-nous comme tous les dimanches pour un temps d’actions de grâces ; \n\n\n\nVenez célébrer avec nous le Roi des rois!!
URL:https://eglise-baptiste-joinville.fr/event/culte-du-dimanche-25
LOCATION:Eglise Baptiste de Joinville\, 81 quai de la Marne\, Joinville-le-Pont\, 94340
END:VEVENT
BEGIN:VEVENT
DTSTART;TZID=UTC:20260311T190000
DTEND;TZID=UTC:20260311T210000
DTSTAMP:20260419T123330
CREATED:20260317T184736Z
LAST-MODIFIED:20260317T184738Z
UID:1793-1773255600-1773262800@eglise-baptiste-joinville.fr
SUMMARY:Groupe des Jeunes Adultes
DESCRIPTION:
URL:https://eglise-baptiste-joinville.fr/event/groupe-des-jeunes-adultes-2
LOCATION:Eglise Baptiste de Joinville\, 81 quai de la Marne\, Joinville-le-Pont\, 94340
END:VEVENT
BEGIN:VEVENT
DTSTART;TZID=UTC:20260315T100000
DTEND;TZID=UTC:20260315T120000
DTSTAMP:20260419T123330
CREATED:20260204T110257Z
LAST-MODIFIED:20260204T110259Z
UID:1746-1773568800-1773576000@eglise-baptiste-joinville.fr
SUMMARY:Culte du dimanche
DESCRIPTION:Retrouvons-nous comme tous les dimanches pour un temps d’actions de grâces ; \n\n\n\nVenez célébrer avec nous le Roi des rois!!
URL:https://eglise-baptiste-joinville.fr/event/culte-du-dimanche-26
LOCATION:Eglise Baptiste de Joinville\, 81 quai de la Marne\, Joinville-le-Pont\, 94340
END:VEVENT
BEGIN:VEVENT
DTSTART;TZID=UTC:20260319T140000
DTEND;TZID=UTC:20260319T153000
DTSTAMP:20260419T123330
CREATED:20260317T183713Z
LAST-MODIFIED:20260317T183715Z
UID:1781-1773928800-1773934200@eglise-baptiste-joinville.fr
SUMMARY:Partage Biblique
DESCRIPTION:
URL:https://eglise-baptiste-joinville.fr/event/partage-biblique-8
LOCATION:Eglise Baptiste de Joinville\, 81 quai de la Marne\, Joinville-le-Pont\, 94340
END:VEVENT
BEGIN:VEVENT
DTSTART;TZID=UTC:20260319T203000
DTEND;TZID=UTC:20260319T220000
DTSTAMP:20260419T123330
CREATED:20260317T183811Z
LAST-MODIFIED:20260317T183813Z
UID:1783-1773952200-1773957600@eglise-baptiste-joinville.fr
SUMMARY:Partage Biblique
DESCRIPTION:
URL:https://eglise-baptiste-joinville.fr/event/partage-biblique-9
LOCATION:ZOOM
END:VEVENT
BEGIN:VEVENT
DTSTART;TZID=UTC:20260321T180000
DTEND;TZID=UTC:20260321T220000
DTSTAMP:20260419T123330
CREATED:20260317T184951Z
LAST-MODIFIED:20260317T184952Z
UID:1795-1774116000-1774130400@eglise-baptiste-joinville.fr
SUMMARY:Soirée des Ados
DESCRIPTION:
URL:https://eglise-baptiste-joinville.fr/event/soiree-des-ados-2
LOCATION:Eglise Baptiste de Joinville\, 81 quai de la Marne\, Joinville-le-Pont\, 94340
END:VEVENT
BEGIN:VEVENT
DTSTART;TZID=UTC:20260322T100000
DTEND;TZID=UTC:20260322T120000
DTSTAMP:20260419T123330
CREATED:20260204T110433Z
LAST-MODIFIED:20260204T110434Z
UID:1748-1774173600-1774180800@eglise-baptiste-joinville.fr
SUMMARY:Culte du dimanche
DESCRIPTION:Retrouvons-nous comme tous les dimanches pour un temps d’actions de grâces ; \n\n\n\nVenez célébrer avec nous le Roi des rois!!
URL:https://eglise-baptiste-joinville.fr/event/culte-du-dimanche-28
LOCATION:Eglise Baptiste de Joinville\, 81 quai de la Marne\, Joinville-le-Pont\, 94340
END:VEVENT
BEGIN:VEVENT
DTSTART;TZID=UTC:20260327T190000
DTEND;TZID=UTC:20260327T220000
DTSTAMP:20260419T123330
CREATED:20260317T185528Z
LAST-MODIFIED:20260317T185530Z
UID:1797-1774638000-1774648800@eglise-baptiste-joinville.fr
SUMMARY:Vaillantes 3.0
DESCRIPTION:Rencontre du groupe de femmes  débats autours du film Courageous:  \n\n\n\n« Etre un homme aujourd’hui »
URL:https://eglise-baptiste-joinville.fr/event/vaillantes-3-0-2
LOCATION:Eglise Baptiste de Joinville\, 81 quai de la Marne\, Joinville-le-Pont\, 94340
END:VEVENT
BEGIN:VEVENT
DTSTART;TZID=UTC:20260328T190000
DTEND;TZID=UTC:20260328T220000
DTSTAMP:20260419T123330
CREATED:20260317T185805Z
LAST-MODIFIED:20260317T185806Z
UID:1799-1774724400-1774735200@eglise-baptiste-joinville.fr
SUMMARY:Vaillants 3.0
DESCRIPTION:Rencontre du groupe de hommes  débats autours du film Courageous:  \n\n\n\n« Etre un homme aujourd’hui »
URL:https://eglise-baptiste-joinville.fr/event/vaillants-3-0
LOCATION:Eglise Baptiste de Joinville\, 81 quai de la Marne\, Joinville-le-Pont\, 94340
END:VEVENT
BEGIN:VEVENT
DTSTART;TZID=UTC:20260329T100000
DTEND;TZID=UTC:20260329T120000
DTSTAMP:20260419T123330
CREATED:20260204T110710Z
LAST-MODIFIED:20260204T110711Z
UID:1750-1774778400-1774785600@eglise-baptiste-joinville.fr
SUMMARY:Culte du dimanche
DESCRIPTION:Retrouvons-nous comme tous les dimanches pour un temps d’actions de grâces ; \n\n\n\nVenez célébrer avec nous le Roi des rois!!
URL:https://eglise-baptiste-joinville.fr/event/culte-du-dimanche-29
LOCATION:Eglise Baptiste de Joinville\, 81 quai de la Marne\, Joinville-le-Pont\, 94340
END:VEVENT
END:VCALENDAR